BEGIN:VCALENDAR
VERSION:2.0
PRODID:-//demosphere.net//NONSGML kigkonsult.se iCalcreator 2.22.1//
METHOD:REQUEST
X-WR-TIMEZONE:Europe/Athens
BEGIN:VEVENT
UID:https://thessaloniki.kinimatorama.net/event/79946
DTSTAMP:20170310T180000Z
DESCRIPTION:περισσότερες πληροφορίες: https://thessaloniki.kinimatorama.net
 /event/79946 
DTSTART:20170310T180000Z
DTEND:20170310T190000Z
GEO:+37.97569;+23.772792
LOCATION:Ζωγράφου\, \nΠάρκο Ειρήνης \nείσοδος από οδό Γ.Ζωγράφου 13 \nΛεωφο
 ρεία: 608\,235 \nστάση: 6η Ζωγράφου
SUMMARY:Συνέλευση Αυτοοργανωμένου Μουσικού Στούντιο «Αχορδία» & μουσικό καφ
 ενείο/bar
URL:https://thessaloniki.kinimatorama.net/event/79946
END:VEVENT
END:VCALENDAR
