BEGIN:VCALENDAR
VERSION:2.0
PRODID:-//demosphere.net//NONSGML kigkonsult.se iCalcreator 2.22.1//
METHOD:REQUEST
X-WR-TIMEZONE:Europe/Athens
BEGIN:VEVENT
UID:https://thessaloniki.kinimatorama.net/event/80116
DTSTAMP:20170312T170000Z
DESCRIPTION:περισσότερες πληροφορίες: https://thessaloniki.kinimatorama.net
 /event/80116 
DTSTART:20170312T170000Z
DTEND:20170312T180000Z
GEO:+35.515361;+24.021515
LOCATION:Χανιά\, \nΚοινωνικό Στέκι - Στέκι Μεταναστών Χανίων \nΧατζήΜιχάλη 
 Νταλιάνη 5
SUMMARY:Διήμερο διεθνιστικής αλληλεγγύης για την συριακή Επανάσταση
URL:https://thessaloniki.kinimatorama.net/event/80116
END:VEVENT
END:VCALENDAR
