BEGIN:VCALENDAR
VERSION:2.0
PRODID:-//demosphere.net//NONSGML kigkonsult.se iCalcreator 2.22.1//
METHOD:REQUEST
X-WR-TIMEZONE:Europe/Athens
BEGIN:VEVENT
UID:https://thessaloniki.kinimatorama.net/event/80420
DTSTAMP:20170331T200000Z
DESCRIPTION:περισσότερες πληροφορίες: https://thessaloniki.kinimatorama.net
 /event/80420 
DTSTART:20170331T200000Z
DTEND:20170331T210000Z
GEO:+40.633903;+22.95648
LOCATION:Θεσσαλονίκη\, \nΣχολή Θετικών Επιστημών (ΣΘΕ) ΑΠΘ
SUMMARY:Πάρτυ Κινηματογραφικών Ομάδων Κι.Λ.ΧΗΜ. - CinemaGroup - Κ.Ο.Π.ΑΝΑ.
URL:https://thessaloniki.kinimatorama.net/event/80420
END:VEVENT
END:VCALENDAR
