BEGIN:VCALENDAR
VERSION:2.0
PRODID:-//demosphere.net//NONSGML kigkonsult.se iCalcreator 2.22.1//
METHOD:REQUEST
X-WR-TIMEZONE:Europe/Athens
BEGIN:VEVENT
UID:https://thessaloniki.kinimatorama.net/event/81948
DTSTAMP:20170413T060000Z
DESCRIPTION:περισσότερες πληροφορίες: https://thessaloniki.kinimatorama.net
 /event/81948 
DTSTART:20170413T060000Z
DTEND:20170413T070000Z
GEO:+37.995376;+23.743086
LOCATION:Αθήνα\, \nΔικαστήρια Ευελπίδων
SUMMARY:Αντιφασιστικό κάλεσμα στη δίκη των νεοναζί του Αγ.Παντελεήμονα
URL:https://thessaloniki.kinimatorama.net/event/81948
END:VEVENT
END:VCALENDAR
