BEGIN:VCALENDAR
VERSION:2.0
PRODID:-//demosphere.net//NONSGML kigkonsult.se iCalcreator 2.22.1//
METHOD:REQUEST
X-WR-TIMEZONE:Europe/Athens
BEGIN:VEVENT
UID:https://thessaloniki.kinimatorama.net/event/82014
DTSTAMP:20170418T090000Z
DESCRIPTION:περισσότερες πληροφορίες: https://thessaloniki.kinimatorama.net
 /event/82014 
DTSTART:20170418T090000Z
DTEND:20170418T100000Z
GEO:+39.555039;+21.767766
LOCATION:Τρίκαλα\, \nΠλατεία Ρήγα Φεραίου
SUMMARY:Συγκέντρωση για απόδοση τιμής στους 5 ΕΠΟΝίτες
URL:https://thessaloniki.kinimatorama.net/event/82014
END:VEVENT
END:VCALENDAR
