BEGIN:VCALENDAR
VERSION:2.0
PRODID:-//demosphere.net//NONSGML kigkonsult.se iCalcreator 2.22.1//
METHOD:REQUEST
X-WR-TIMEZONE:Europe/Athens
BEGIN:VEVENT
UID:https://thessaloniki.kinimatorama.net/event/82198
DTSTAMP:20170430T093000Z
DESCRIPTION:περισσότερες πληροφορίες: https://thessaloniki.kinimatorama.net
 /event/82198 
DTSTART:20170430T093000Z
DTEND:20170430T103000Z
GEO:+38.006049;+23.725857
LOCATION:Αθήνα\, \nΜανουσογιάννη 6 \nΆγιος Νικόλαος \n(3' περπάτημα από στα
 θμό ΗΣΑΠ ΑΓ.ΝΙΚΟΛΑΟΣ)
SUMMARY:Queer Feminist Spring Festival
URL:https://thessaloniki.kinimatorama.net/event/82198
END:VEVENT
END:VCALENDAR
