BEGIN:VCALENDAR
VERSION:2.0
PRODID:-//demosphere.net//NONSGML kigkonsult.se iCalcreator 2.22.1//
METHOD:REQUEST
X-WR-TIMEZONE:Europe/Athens
BEGIN:VEVENT
UID:https://thessaloniki.kinimatorama.net/event/82414
DTSTAMP:20170506T133000Z
DESCRIPTION:περισσότερες πληροφορίες: https://thessaloniki.kinimatorama.net
 /event/82414 
DTSTART:20170506T133000Z
DTEND:20170506T143000Z
GEO:+40.633903;+22.95648
LOCATION:Θεσσαλονίκη\, \nΣχολή Θετικών Επιστημών (ΣΘΕ) ΑΠΘ
SUMMARY:5ο Φεστιβάλ Σεξουαλικότητας Θεσσαλονίκης
URL:https://thessaloniki.kinimatorama.net/event/82414
END:VEVENT
END:VCALENDAR
