BEGIN:VCALENDAR
VERSION:2.0
PRODID:-//demosphere.net//NONSGML kigkonsult.se iCalcreator 2.22.1//
METHOD:REQUEST
X-WR-TIMEZONE:Europe/Athens
BEGIN:VEVENT
UID:https://thessaloniki.kinimatorama.net/event/82478
DTSTAMP:20170507T123000Z
DESCRIPTION:περισσότερες πληροφορίες: https://thessaloniki.kinimatorama.net
 /event/82478 
DTSTART:20170507T123000Z
DTEND:20170507T133000Z
GEO:+40.62957;+22.964948
LOCATION:Θεσσαλονίκη\, \nΑ' φοιτητική εστία ΑΠΘ \nοδός Στίλπωνος Κυριακίδη 
 \n(πάνω από το Ιβανώφειο) \nλεωφορεία 17\,37: στάση Καυτατζόγλειο \nλεωφορ
 εία 15\,16: στάση Εστίες
SUMMARY:Ρεμπέτικο γλέντι οικονομικής ενίσχυσης της ΠΡΩΤοβουλίας ΕΣΤιών
URL:https://thessaloniki.kinimatorama.net/event/82478
END:VEVENT
END:VCALENDAR
