BEGIN:VCALENDAR
VERSION:2.0
PRODID:-//demosphere.net//NONSGML kigkonsult.se iCalcreator 2.22.1//
METHOD:REQUEST
X-WR-TIMEZONE:Europe/Athens
BEGIN:VEVENT
UID:https://thessaloniki.kinimatorama.net/event/82781
DTSTAMP:20170503T090000Z
DESCRIPTION:περισσότερες πληροφορίες: https://thessaloniki.kinimatorama.net
 /event/82781 
DTSTART:20170503T090000Z
DTEND:20170503T100000Z
GEO:+37.995376;+23.743086
LOCATION:Αθήνα\, \nΔικαστήρια Ευελπίδων
SUMMARY:Δίκη συλληφθέντων-εισών από την εκκένωση της Villa Amalias
URL:https://thessaloniki.kinimatorama.net/event/82781
END:VEVENT
END:VCALENDAR
