BEGIN:VCALENDAR
VERSION:2.0
PRODID:-//demosphere.net//NONSGML kigkonsult.se iCalcreator 2.22.1//
METHOD:REQUEST
X-WR-TIMEZONE:Europe/Athens
BEGIN:VEVENT
UID:https://thessaloniki.kinimatorama.net/event/82933
DTSTAMP:20170505T173000Z
DESCRIPTION:περισσότερες πληροφορίες: https://thessaloniki.kinimatorama.net
 /event/82933 
DTSTART:20170505T173000Z
DTEND:20170505T183000Z
GEO:+35.341459;+25.132416
LOCATION:Ηράκλειο\, \nΚατάληψη Ευαγγελισμού \nΘεοτοκοπούλου 18
SUMMARY:(ακυρώνεται) Το νησί των λουλουδιών κι άλλες ιστορίες γι’ αγρίους
URL:https://thessaloniki.kinimatorama.net/event/82933
END:VEVENT
END:VCALENDAR
