BEGIN:VCALENDAR
VERSION:2.0
PRODID:-//demosphere.net//NONSGML kigkonsult.se iCalcreator 2.22.1//
METHOD:REQUEST
X-WR-TIMEZONE:Europe/Athens
BEGIN:VEVENT
UID:https://thessaloniki.kinimatorama.net/event/83366
DTSTAMP:20170512T070000Z
DESCRIPTION:περισσότερες πληροφορίες: https://thessaloniki.kinimatorama.net
 /event/83366 
DTSTART:20170512T070000Z
DTEND:20170512T080000Z
GEO:+37.995376;+23.743086
LOCATION:Αθήνα\, \nΔικαστήρια Ευελπίδων
SUMMARY:Δίκη συναγωνιστών της Εργατικής Λέσχης Ν.Σμύρνης για αναγραφή συνθη
 μάτων
URL:https://thessaloniki.kinimatorama.net/event/83366
END:VEVENT
END:VCALENDAR
