BEGIN:VCALENDAR
VERSION:2.0
PRODID:-//demosphere.net//NONSGML kigkonsult.se iCalcreator 2.22.1//
METHOD:REQUEST
X-WR-TIMEZONE:Europe/Athens
BEGIN:VEVENT
UID:https://thessaloniki.kinimatorama.net/event/83418
DTSTAMP:20170527T120000Z
DESCRIPTION:περισσότερες πληροφορίες: https://thessaloniki.kinimatorama.net
 /event/83418 
DTSTART:20170527T120000Z
DTEND:20170527T130000Z
GEO:+40.633903;+22.95648
LOCATION:Θεσσαλονίκη\, \nΣχολή Θετικών Επιστημών (ΣΘΕ) ΑΠΘ
SUMMARY:(αλλαγή τοποθεσίας) 1ο αυτο-οργανωμένο Thessaloniki Pride
URL:https://thessaloniki.kinimatorama.net/event/83418
END:VEVENT
END:VCALENDAR
