BEGIN:VCALENDAR
VERSION:2.0
PRODID:-//demosphere.net//NONSGML kigkonsult.se iCalcreator 2.22.1//
METHOD:REQUEST
X-WR-TIMEZONE:Europe/Athens
BEGIN:VEVENT
UID:https://thessaloniki.kinimatorama.net/event/83456
DTSTAMP:20170611T170000Z
DESCRIPTION:περισσότερες πληροφορίες: https://thessaloniki.kinimatorama.net
 /event/83456 
DTSTART:20170611T170000Z
DTEND:20170611T180000Z
GEO:+37.96544;+23.760477
LOCATION:Καισαριανή\, \nμνημείο Σκοπευτηρίου Καισαριανής \nλεωφορείο 214: σ
 τάση 8η ΦΟΡΜΙΩΝΟΣ \nλεωφορείο 224: στάση 8η ΚΑΙΣΑΡΙΑΝΗΣ \nτρόλλευ 11 (ολον
 ύχτιo): στάση ΔΗΜΑΡΧΕΙΟ \nκοντινότερο μετρό: Στ. Ευαγγελισμού
SUMMARY:(αναβάλλεται για 13/6) Θέαμα δρόμου (τσίρκο)
URL:https://thessaloniki.kinimatorama.net/event/83456
END:VEVENT
END:VCALENDAR
