BEGIN:VCALENDAR
VERSION:2.0
PRODID:-//demosphere.net//NONSGML kigkonsult.se iCalcreator 2.22.1//
METHOD:REQUEST
X-WR-TIMEZONE:Europe/Athens
BEGIN:VEVENT
UID:https://thessaloniki.kinimatorama.net/event/83542
DTSTAMP:20170520T080000Z
DESCRIPTION:περισσότερες πληροφορίες: https://thessaloniki.kinimatorama.net
 /event/83542 
DTSTART:20170520T080000Z
DTEND:20170520T090000Z
GEO:+39.555039;+21.767766
LOCATION:Τρίκαλα\, \nΠλατεία Ρήγα Φεραίου
SUMMARY:Μικροφωνική αλληλεγγύης στις καταλήψεις
URL:https://thessaloniki.kinimatorama.net/event/83542
END:VEVENT
END:VCALENDAR
