BEGIN:VCALENDAR
VERSION:2.0
PRODID:-//demosphere.net//NONSGML kigkonsult.se iCalcreator 2.22.1//
METHOD:REQUEST
X-WR-TIMEZONE:Europe/Athens
BEGIN:VEVENT
UID:https://thessaloniki.kinimatorama.net/event/84028
DTSTAMP:20170609T190000Z
DESCRIPTION:περισσότερες πληροφορίες: https://thessaloniki.kinimatorama.net
 /event/84028 
DTSTART:20170609T190000Z
DTEND:20170609T200000Z
GEO:+40.633903;+22.95648
LOCATION:Θεσσαλονίκη\, \nΣχολή Θετικών Επιστημών (ΣΘΕ) ΑΠΘ
SUMMARY:Ρεμπέτικο γλέντι για την οικ. ενίσχυση των διωκόμενων των Σκουριών
URL:https://thessaloniki.kinimatorama.net/event/84028
END:VEVENT
END:VCALENDAR
