BEGIN:VCALENDAR
VERSION:2.0
PRODID:-//demosphere.net//NONSGML kigkonsult.se iCalcreator 2.22.1//
METHOD:REQUEST
X-WR-TIMEZONE:Europe/Athens
BEGIN:VEVENT
UID:https://thessaloniki.kinimatorama.net/event/8435
DTSTAMP:20110222T070000Z
DESCRIPTION:περισσότερες πληροφορίες: https://thessaloniki.kinimatorama.net
 /event/8435 
DTSTART:20110222T070000Z
DTEND:20110222T080000Z
GEO:+40.639326;+22.932823
LOCATION:Θεσσαλονίκη\, \nΔικαστήρια Θεσσαλονίκης
SUMMARY:Συγκέντρωση για τους διωκ. αλληλέγγυους στη δολοφονία Τόνυ Ονούα
URL:https://thessaloniki.kinimatorama.net/event/8435
END:VEVENT
END:VCALENDAR
