BEGIN:VCALENDAR
VERSION:2.0
PRODID:-//demosphere.net//NONSGML kigkonsult.se iCalcreator 2.22.1//
METHOD:REQUEST
X-WR-TIMEZONE:Europe/Athens
BEGIN:VEVENT
UID:https://thessaloniki.kinimatorama.net/event/84647
DTSTAMP:20170609T183000Z
DESCRIPTION:περισσότερες πληροφορίες: https://thessaloniki.kinimatorama.net
 /event/84647 
DTSTART:20170609T183000Z
DTEND:20170609T193000Z
GEO:+37.979198;+23.723922
LOCATION:Αθήνα\, \nΕλεύθερο Αυτοδιαχειριζόμενο Θέατρο Εμπρός \nΡήγα Παλαμήδ
 ου 2\, Ψυρρή \n(πλησίον σταθμού ΜΟΝΑΣΤΗΡΑΚΙ)
SUMMARY:Θεατρική παράσταση: Το Παιχνίδι της Σφαγής
URL:https://thessaloniki.kinimatorama.net/event/84647
END:VEVENT
END:VCALENDAR
