BEGIN:VCALENDAR
VERSION:2.0
PRODID:-//demosphere.net//NONSGML kigkonsult.se iCalcreator 2.22.1//
METHOD:REQUEST
X-WR-TIMEZONE:Europe/Athens
BEGIN:VEVENT
UID:https://thessaloniki.kinimatorama.net/event/85329
DTSTAMP:20170627T170000Z
DESCRIPTION:περισσότερες πληροφορίες: https://thessaloniki.kinimatorama.net
 /event/85329 
DTSTART:20170627T170000Z
DTEND:20170627T180000Z
GEO:+35.341459;+25.132416
LOCATION:Ηράκλειο\, \nΚατάληψη Ευαγγελισμού \nΘεοτοκοπούλου 18
SUMMARY:Διαχειριστική συνέλευση για τα γενέθλια της Κατάληψης Ευαγγελισμού
URL:https://thessaloniki.kinimatorama.net/event/85329
END:VEVENT
END:VCALENDAR
