BEGIN:VCALENDAR
VERSION:2.0
PRODID:-//demosphere.net//NONSGML kigkonsult.se iCalcreator 2.22.1//
METHOD:REQUEST
X-WR-TIMEZONE:Europe/Athens
BEGIN:VEVENT
UID:https://thessaloniki.kinimatorama.net/event/86059
DTSTAMP:20170714T160000Z
DESCRIPTION:περισσότερες πληροφορίες: https://thessaloniki.kinimatorama.net
 /event/86059 
DTSTART:20170714T160000Z
DTEND:20170714T170000Z
GEO:+39.555039;+21.767766
LOCATION:Τρίκαλα\, \nΠλατεία Ρήγα Φεραίου
SUMMARY:Συγκέντρωση-μικροφωνική αλληλεγγύης στην Ηριάννα
URL:https://thessaloniki.kinimatorama.net/event/86059
END:VEVENT
END:VCALENDAR
