BEGIN:VCALENDAR
VERSION:2.0
PRODID:-//demosphere.net//NONSGML kigkonsult.se iCalcreator 2.22.1//
METHOD:REQUEST
X-WR-TIMEZONE:Europe/Athens
BEGIN:VEVENT
UID:https://thessaloniki.kinimatorama.net/event/86062
DTSTAMP:20170716T073000Z
DESCRIPTION:περισσότερες πληροφορίες: https://thessaloniki.kinimatorama.net
 /event/86062 
DTSTART:20170716T073000Z
DTEND:20170716T083000Z
GEO:+39.555039;+21.767766
LOCATION:Τρίκαλα\, \nΠλατεία Ρήγα Φεραίου
SUMMARY:Απεργιακή συγκέντρωση ενάντια στην κατάργηση της Κυριακάτικης αργία
 ς
URL:https://thessaloniki.kinimatorama.net/event/86062
END:VEVENT
END:VCALENDAR
