BEGIN:VCALENDAR
VERSION:2.0
PRODID:-//demosphere.net//NONSGML kigkonsult.se iCalcreator 2.22.1//
METHOD:REQUEST
X-WR-TIMEZONE:Europe/Athens
BEGIN:VEVENT
UID:https://thessaloniki.kinimatorama.net/event/8645
DTSTAMP:20110302T150000Z
DESCRIPTION:περισσότερες πληροφορίες: https://thessaloniki.kinimatorama.net
 /event/8645 
DTSTART:20110302T150000Z
DTEND:20110302T160000Z
GEO:+38.00095;+23.737762
LOCATION:Αθήνα\, \nΔημοτική Αγορά Κυψέλης \nΦωκίωνος Νέγρη 42
SUMMARY:Συνέλευση Αντίστασης και Αλληλεγγύης Κυψέλης / Πατησίων
URL:https://thessaloniki.kinimatorama.net/event/8645
END:VEVENT
END:VCALENDAR
