BEGIN:VCALENDAR
VERSION:2.0
PRODID:-//demosphere.net//NONSGML kigkonsult.se iCalcreator 2.22.1//
METHOD:REQUEST
X-WR-TIMEZONE:Europe/Athens
BEGIN:VEVENT
UID:https://thessaloniki.kinimatorama.net/event/86909
DTSTAMP:20170930T190000Z
DESCRIPTION:περισσότερες πληροφορίες: https://thessaloniki.kinimatorama.net
 /event/86909 
DTSTART:20170930T190000Z
DTEND:20170930T200000Z
GEO:+37.988214;+23.738987
LOCATION:Αθήνα\, \nΛόφος Στρέφη \nΕξάρχεια
SUMMARY:Πάρτυ οικονομικής ενίσχυσης του διωκόμενου συντρόφου Παναγιώτη Ζ.
URL:https://thessaloniki.kinimatorama.net/event/86909
END:VEVENT
END:VCALENDAR
