BEGIN:VCALENDAR
VERSION:2.0
PRODID:-//demosphere.net//NONSGML kigkonsult.se iCalcreator 2.22.1//
METHOD:REQUEST
X-WR-TIMEZONE:Europe/Athens
BEGIN:VEVENT
UID:https://thessaloniki.kinimatorama.net/event/88170
DTSTAMP:20171012T060000Z
DESCRIPTION:περισσότερες πληροφορίες: https://thessaloniki.kinimatorama.net
 /event/88170 
DTSTART:20171012T060000Z
DTEND:20171012T070000Z
GEO:+37.995376;+23.743086
LOCATION:Αθήνα\, \nΔικαστήρια Ευελπίδων
SUMMARY:Κάλεσμα στα δικαστήρια για την αντιφασιστική παρέμβαση στα γραφεία 
 της Χ.Α.
URL:https://thessaloniki.kinimatorama.net/event/88170
END:VEVENT
END:VCALENDAR
