BEGIN:VCALENDAR
VERSION:2.0
PRODID:-//demosphere.net//NONSGML kigkonsult.se iCalcreator 2.22.1//
METHOD:REQUEST
X-WR-TIMEZONE:Europe/Athens
BEGIN:VEVENT
UID:https://thessaloniki.kinimatorama.net/event/88255
DTSTAMP:20171020T190000Z
DESCRIPTION:περισσότερες πληροφορίες: https://thessaloniki.kinimatorama.net
 /event/88255 
DTSTART:20171020T190000Z
DTEND:20171020T200000Z
GEO:+35.341459;+25.132416
LOCATION:Ηράκλειο\, \nΚατάληψη Ευαγγελισμού \nΘεοτοκοπούλου 18
SUMMARY:Αυτοδιαχειριζόμενο καφενείο
URL:https://thessaloniki.kinimatorama.net/event/88255
END:VEVENT
END:VCALENDAR
