BEGIN:VCALENDAR
VERSION:2.0
PRODID:-//demosphere.net//NONSGML kigkonsult.se iCalcreator 2.22.1//
METHOD:REQUEST
X-WR-TIMEZONE:Europe/Athens
BEGIN:VEVENT
UID:https://thessaloniki.kinimatorama.net/event/88304
DTSTAMP:20171116T070000Z
DESCRIPTION:περισσότερες πληροφορίες: https://thessaloniki.kinimatorama.net
 /event/88304 
DTSTART:20171116T070000Z
DTEND:20171116T080000Z
GEO:+37.995376;+23.743086
LOCATION:Αθήνα\, \nΔικαστήρια Ευελπίδων
SUMMARY:Κάλεσμα στο πρωτοδικείο κατά της AMUSE EVENT
URL:https://thessaloniki.kinimatorama.net/event/88304
END:VEVENT
END:VCALENDAR
