BEGIN:VCALENDAR
VERSION:2.0
PRODID:-//demosphere.net//NONSGML kigkonsult.se iCalcreator 2.22.1//
METHOD:REQUEST
X-WR-TIMEZONE:Europe/Athens
BEGIN:VEVENT
UID:https://thessaloniki.kinimatorama.net/event/8835
DTSTAMP:20110310T180000Z
DESCRIPTION:περισσότερες πληροφορίες: https://thessaloniki.kinimatorama.net
 /event/8835 
DTSTART:20110310T180000Z
DTEND:20110310T190000Z
GEO:+35.341459;+25.132416
LOCATION:Ηράκλειο\, \nΚατάληψη Ευαγγελισμού \nΘεοτοκοπούλου 18
SUMMARY:Συνέλευση αλληλεγγύης στους 4 συλληφθέντες
URL:https://thessaloniki.kinimatorama.net/event/8835
END:VEVENT
END:VCALENDAR
