BEGIN:VCALENDAR
VERSION:2.0
PRODID:-//demosphere.net//NONSGML kigkonsult.se iCalcreator 2.22.1//
METHOD:REQUEST
X-WR-TIMEZONE:Europe/Athens
BEGIN:VEVENT
UID:https://thessaloniki.kinimatorama.net/event/88547
DTSTAMP:20171129T073000Z
DESCRIPTION:περισσότερες πληροφορίες: https://thessaloniki.kinimatorama.net
 /event/88547 
DTSTART:20171129T073000Z
DTEND:20171129T083000Z
GEO:+40.639326;+22.932823
LOCATION:Θεσσαλονίκη\, \nΔικαστήρια Θεσσαλονίκης
SUMMARY:Μαζική παράσταση αλληλεγγύης στον Γιάννη Ν.
URL:https://thessaloniki.kinimatorama.net/event/88547
END:VEVENT
END:VCALENDAR
