BEGIN:VCALENDAR
VERSION:2.0
PRODID:-//demosphere.net//NONSGML kigkonsult.se iCalcreator 2.22.1//
METHOD:REQUEST
X-WR-TIMEZONE:Europe/Athens
BEGIN:VEVENT
UID:https://thessaloniki.kinimatorama.net/event/89410
DTSTAMP:20171106T183000Z
DESCRIPTION:περισσότερες πληροφορίες: https://thessaloniki.kinimatorama.net
 /event/89410 
DTSTART:20171106T183000Z
DTEND:20171106T193000Z
GEO:+37.984156;+23.735238
LOCATION:Αθήνα\, \nΑυτοδιαχειριζόμενο Πάρκο Ναυαρίνου \nΝαυαρίνου & Ζωοδόχο
 υ Πηγής \nΕξάρχεια
SUMMARY:Ανοιχτή συνέλευση Αυτοδιαχειριζόμενου Πάρκου Ναυαρίνου
URL:https://thessaloniki.kinimatorama.net/event/89410
END:VEVENT
END:VCALENDAR
