BEGIN:VCALENDAR
VERSION:2.0
PRODID:-//demosphere.net//NONSGML kigkonsult.se iCalcreator 2.22.1//
METHOD:REQUEST
X-WR-TIMEZONE:Europe/Athens
BEGIN:VEVENT
UID:https://thessaloniki.kinimatorama.net/event/89777
DTSTAMP:20171121T070000Z
DESCRIPTION:περισσότερες πληροφορίες: https://thessaloniki.kinimatorama.net
 /event/89777 
DTSTART:20171121T070000Z
DTEND:20171121T080000Z
GEO:+37.995376;+23.743086
LOCATION:Αθήνα\, \nΔικαστήρια Ευελπίδων
SUMMARY:Συγκέντρωση συμπαράστασης στο ΣΣΜ στα δικαστήρια στην Ευελπίδων
URL:https://thessaloniki.kinimatorama.net/event/89777
END:VEVENT
END:VCALENDAR
