BEGIN:VCALENDAR
VERSION:2.0
PRODID:-//demosphere.net//NONSGML kigkonsult.se iCalcreator 2.22.1//
METHOD:REQUEST
X-WR-TIMEZONE:Europe/Athens
BEGIN:VEVENT
UID:https://thessaloniki.kinimatorama.net/event/8991
DTSTAMP:20110406T140000Z
DESCRIPTION:περισσότερες πληροφορίες: https://thessaloniki.kinimatorama.net
 /event/8991 
DTSTART:20110406T140000Z
DTEND:20110406T150000Z
GEO:+35.517819;+24.019203
LOCATION:Χανιά\, \nΚατάληψη Rosa Nera \nΛόφος Καστέλι\, Παλιό λιμάνι
SUMMARY:Σεμινάριο Σύγχρονου Χορού
URL:https://thessaloniki.kinimatorama.net/event/8991
END:VEVENT
END:VCALENDAR
