BEGIN:VCALENDAR
VERSION:2.0
PRODID:-//demosphere.net//NONSGML kigkonsult.se iCalcreator 2.22.1//
METHOD:REQUEST
X-WR-TIMEZONE:Europe/Athens
BEGIN:VEVENT
UID:https://thessaloniki.kinimatorama.net/event/9005
DTSTAMP:20110316T183000Z
DESCRIPTION:περισσότερες πληροφορίες: https://thessaloniki.kinimatorama.net
 /event/9005 
DTSTART:20110316T183000Z
DTEND:20110316T193000Z
GEO:+38.00095;+23.737762
LOCATION:Αθήνα\, \nΔημοτική Αγορά Κυψέλης \nΦωκίωνος Νέγρη 42
SUMMARY:Προβολή ταινίας: Οι Συμμορίες της Νέας Υόρκης
URL:https://thessaloniki.kinimatorama.net/event/9005
END:VEVENT
END:VCALENDAR
