BEGIN:VCALENDAR
VERSION:2.0
PRODID:-//demosphere.net//NONSGML kigkonsult.se iCalcreator 2.22.1//
METHOD:REQUEST
X-WR-TIMEZONE:Europe/Athens
BEGIN:VEVENT
UID:https://thessaloniki.kinimatorama.net/event/9074
DTSTAMP:20110319T190000Z
DESCRIPTION:περισσότερες πληροφορίες: https://thessaloniki.kinimatorama.net
 /event/9074 
DTSTART:20110319T190000Z
DTEND:20110319T200000Z
GEO:+37.989867;+23.735633
LOCATION:Αθήνα\, \nΥπόγα Κ94 \nΚαλλιδρομίου 94 \nΕξάρχεια
SUMMARY:Συναυλία οικ. ενίσχυσης για τους συλληφθέντες στο Ηρακλειο
URL:https://thessaloniki.kinimatorama.net/event/9074
END:VEVENT
END:VCALENDAR
