BEGIN:VCALENDAR
VERSION:2.0
PRODID:-//demosphere.net//NONSGML kigkonsult.se iCalcreator 2.22.1//
METHOD:REQUEST
X-WR-TIMEZONE:Europe/Athens
BEGIN:VEVENT
UID:https://thessaloniki.kinimatorama.net/event/90830
DTSTAMP:20171215T213000Z
DESCRIPTION:περισσότερες πληροφορίες: https://thessaloniki.kinimatorama.net
 /event/90830 
DTSTART:20171215T213000Z
DTEND:20171215T223000Z
GEO:+40.633903;+22.95648
LOCATION:Θεσσαλονίκη\, \nΣχολή Θετικών Επιστημών (ΣΘΕ) ΑΠΘ
SUMMARY:Πάρτυ οικονομικής ενίσχυσης των σχημάτων ΑΡΕΦ και ΦΕΡΜΑ (σχήματα ΕΑ
 ΑΚ)
URL:https://thessaloniki.kinimatorama.net/event/90830
END:VEVENT
END:VCALENDAR
