BEGIN:VCALENDAR
VERSION:2.0
PRODID:-//demosphere.net//NONSGML kigkonsult.se iCalcreator 2.22.1//
METHOD:REQUEST
X-WR-TIMEZONE:Europe/Athens
BEGIN:VEVENT
UID:https://thessaloniki.kinimatorama.net/event/91107
DTSTAMP:20171214T080000Z
DESCRIPTION:περισσότερες πληροφορίες: https://thessaloniki.kinimatorama.net
 /event/91107 
DTSTART:20171214T080000Z
DTEND:20171214T090000Z
GEO:+39.555039;+21.767766
LOCATION:Τρίκαλα\, \nΠλατεία Ρήγα Φεραίου
SUMMARY:Ανεξάρτητη ταξική απεργιακή συγκέντρωση
URL:https://thessaloniki.kinimatorama.net/event/91107
END:VEVENT
END:VCALENDAR
