BEGIN:VCALENDAR
VERSION:2.0
PRODID:-//demosphere.net//NONSGML kigkonsult.se iCalcreator 2.22.1//
METHOD:REQUEST
X-WR-TIMEZONE:Europe/Athens
BEGIN:VEVENT
UID:https://thessaloniki.kinimatorama.net/event/91443
DTSTAMP:20171221T070000Z
DESCRIPTION:περισσότερες πληροφορίες: https://thessaloniki.kinimatorama.net
 /event/91443 
DTSTART:20171221T070000Z
DTEND:20171221T080000Z
GEO:+37.995376;+23.743086
LOCATION:Αθήνα\, \nΔικαστήρια Ευελπίδων
SUMMARY:Κάλεσμα αλληλεγγύης στη δίκη συντρόφισσας που συνελήφθη σε απεργιακ
 ή πορεία
URL:https://thessaloniki.kinimatorama.net/event/91443
END:VEVENT
END:VCALENDAR
