BEGIN:VCALENDAR
VERSION:2.0
PRODID:-//demosphere.net//NONSGML kigkonsult.se iCalcreator 2.22.1//
METHOD:REQUEST
X-WR-TIMEZONE:Europe/Athens
BEGIN:VEVENT
UID:https://thessaloniki.kinimatorama.net/event/92060
DTSTAMP:20180115T163000Z
DESCRIPTION:περισσότερες πληροφορίες: https://thessaloniki.kinimatorama.net
 /event/92060 
DTSTART:20180115T163000Z
DTEND:20180115T173000Z
GEO:+39.555039;+21.767766
LOCATION:Τρίκαλα\, \nΠλατεία Ρήγα Φεραίου
SUMMARY:Συγκέντρωση ενάντια στο πολυνομοσχέδιο
URL:https://thessaloniki.kinimatorama.net/event/92060
END:VEVENT
END:VCALENDAR
