BEGIN:VCALENDAR
VERSION:2.0
PRODID:-//demosphere.net//NONSGML kigkonsult.se iCalcreator 2.22.1//
METHOD:REQUEST
X-WR-TIMEZONE:Europe/Athens
BEGIN:VEVENT
UID:https://thessaloniki.kinimatorama.net/event/9277
DTSTAMP:20110325T210000Z
DESCRIPTION:περισσότερες πληροφορίες: https://thessaloniki.kinimatorama.net
 /event/9277 
DTSTART:20110325T210000Z
DTEND:20110325T220000Z
GEO:+35.341459;+25.132416
LOCATION:Ηράκλειο\, \nΚατάληψη Ευαγγελισμού \nΘεοτοκοπούλου 18
SUMMARY:Καφενείο οικ. ενίσχυσης στους 4 συλληφθέντες της 16/02/11
URL:https://thessaloniki.kinimatorama.net/event/9277
END:VEVENT
END:VCALENDAR
