BEGIN:VCALENDAR
VERSION:2.0
PRODID:-//demosphere.net//NONSGML kigkonsult.se iCalcreator 2.22.1//
METHOD:REQUEST
X-WR-TIMEZONE:Europe/Athens
BEGIN:VEVENT
UID:https://thessaloniki.kinimatorama.net/event/92918
DTSTAMP:20180204T070000Z
DESCRIPTION:περισσότερες πληροφορίες: https://thessaloniki.kinimatorama.net
 /event/92918 
DTSTART:20180204T070000Z
DTEND:20180204T080000Z
GEO:+37.995376;+23.743086
LOCATION:Αθήνα\, \nΔικαστήρια Ευελπίδων
SUMMARY:Παράσταση αλληλεγγύης για το σύντροφο Παναγιώτη Π.
URL:https://thessaloniki.kinimatorama.net/event/92918
END:VEVENT
END:VCALENDAR
