BEGIN:VCALENDAR
VERSION:2.0
PRODID:-//demosphere.net//NONSGML kigkonsult.se iCalcreator 2.22.1//
METHOD:REQUEST
X-WR-TIMEZONE:Europe/Athens
BEGIN:VEVENT
UID:https://thessaloniki.kinimatorama.net/event/93674
DTSTAMP:20180226T090000Z
DESCRIPTION:περισσότερες πληροφορίες: https://thessaloniki.kinimatorama.net
 /event/93674 
DTSTART:20180226T090000Z
DTEND:20180226T100000Z
GEO:+40.639326;+22.932823
LOCATION:Θεσσαλονίκη\, \nΔικαστήρια Θεσσαλονίκης
SUMMARY:Συγκέντρωση για τους συλληφθέντες Τζίφκα\, Δημτσιάδη\, Τσιλιανίδη
URL:https://thessaloniki.kinimatorama.net/event/93674
END:VEVENT
END:VCALENDAR
