BEGIN:VCALENDAR
VERSION:2.0
PRODID:-//demosphere.net//NONSGML kigkonsult.se iCalcreator 2.22.1//
METHOD:REQUEST
X-WR-TIMEZONE:Europe/Athens
BEGIN:VEVENT
UID:https://thessaloniki.kinimatorama.net/event/95214
DTSTAMP:20180330T060000Z
DESCRIPTION:περισσότερες πληροφορίες: https://thessaloniki.kinimatorama.net
 /event/95214 
DTSTART:20180330T060000Z
DTEND:20180330T070000Z
GEO:+37.995376;+23.743086
LOCATION:Αθήνα\, \nΔικαστήρια Ευελπίδων
SUMMARY:Συγκέντρωση συμπαράστασης σε συλληφθέντες του αγώνα ενάντια στους π
 λειστηριασμούς
URL:https://thessaloniki.kinimatorama.net/event/95214
END:VEVENT
END:VCALENDAR
