BEGIN:VCALENDAR
VERSION:2.0
PRODID:-//demosphere.net//NONSGML kigkonsult.se iCalcreator 2.22.1//
METHOD:REQUEST
X-WR-TIMEZONE:Europe/Athens
BEGIN:VEVENT
UID:https://thessaloniki.kinimatorama.net/event/95265
DTSTAMP:20180415T160000Z
DESCRIPTION:περισσότερες πληροφορίες: https://thessaloniki.kinimatorama.net
 /event/95265 
DTSTART:20180415T160000Z
DTEND:20180415T170000Z
GEO:+37.904202;+23.751378
LOCATION:Αργυρούπολη\, \nΥπόστεγο \n(Αυτοδιαχειριζόμενο Στέκι Αργυρούπολης)
  \n25ης Μαρτίου 38 \n(πλησίον σταθμού Μετρό ΑΡΓΥΡΟΥΠΟΛΗ)
SUMMARY:Κυριακάτικο καφενείο για την υπόθεση των 8 & 35 μεταναστών από Π.Ρά
 λλη & Μόρια
URL:https://thessaloniki.kinimatorama.net/event/95265
END:VEVENT
END:VCALENDAR
