BEGIN:VCALENDAR
VERSION:2.0
PRODID:-//demosphere.net//NONSGML kigkonsult.se iCalcreator 2.22.1//
METHOD:REQUEST
X-WR-TIMEZONE:Europe/Athens
BEGIN:VEVENT
UID:https://thessaloniki.kinimatorama.net/event/95676
DTSTAMP:20180419T170000Z
DESCRIPTION:περισσότερες πληροφορίες: https://thessaloniki.kinimatorama.net
 /event/95676 
DTSTART:20180419T170000Z
DTEND:20180419T180000Z
GEO:+35.341459;+25.132416
LOCATION:Ηράκλειο\, \nΚατάληψη Ευαγγελισμού \nΘεοτοκοπούλου 18
SUMMARY:Διαχειριστική συνέλευση της κατάληψης Ευαγγελισμού
URL:https://thessaloniki.kinimatorama.net/event/95676
END:VEVENT
END:VCALENDAR
