BEGIN:VCALENDAR
VERSION:2.0
PRODID:-//demosphere.net//NONSGML kigkonsult.se iCalcreator 2.22.1//
METHOD:REQUEST
X-WR-TIMEZONE:Europe/Athens
BEGIN:VEVENT
UID:https://thessaloniki.kinimatorama.net/event/95941
DTSTAMP:20180421T173000Z
DESCRIPTION:περισσότερες πληροφορίες: https://thessaloniki.kinimatorama.net
 /event/95941 
DTSTART:20180421T173000Z
DTEND:20180421T183000Z
GEO:+37.960728;+23.75523
LOCATION:Βύρωνας\, \nΚοινωνικό Πολιτιστικό Κέντρο Βύρωνα \n'Λαμπηδόνα' \nΆλ
 σος Αγ.Τριάδας \nπρόσβαση: 11(24ωρο)\,203\,204 \nστάση ΑΓΟΡΑ ΒΥΡΩΝΑ
SUMMARY:Hip - Hop live: Μυστήριος Τύπος
URL:https://thessaloniki.kinimatorama.net/event/95941
END:VEVENT
END:VCALENDAR
