BEGIN:VCALENDAR
VERSION:2.0
PRODID:-//demosphere.net//NONSGML kigkonsult.se iCalcreator 2.22.1//
METHOD:REQUEST
X-WR-TIMEZONE:Europe/Athens
BEGIN:VEVENT
UID:https://thessaloniki.kinimatorama.net/event/96307
DTSTAMP:20180501T063000Z
DESCRIPTION:περισσότερες πληροφορίες: https://thessaloniki.kinimatorama.net
 /event/96307 
DTSTART:20180501T063000Z
DTEND:20180501T073000Z
GEO:+39.555039;+21.767766
LOCATION:Τρίκαλα\, \nΠλατεία Ρήγα Φεραίου
SUMMARY:Κάλεσμα σε ανεξάρτητη ταξική Πρωτομαγιάτικη προσυγκέντρωση
URL:https://thessaloniki.kinimatorama.net/event/96307
END:VEVENT
END:VCALENDAR
