BEGIN:VCALENDAR
VERSION:2.0
PRODID:-//demosphere.net//NONSGML kigkonsult.se iCalcreator 2.22.1//
METHOD:REQUEST
X-WR-TIMEZONE:Europe/Athens
BEGIN:VEVENT
UID:https://thessaloniki.kinimatorama.net/event/96759
DTSTAMP:20180602T140000Z
DESCRIPTION:περισσότερες πληροφορίες: https://thessaloniki.kinimatorama.net
 /event/96759 
DTSTART:20180602T140000Z
DTEND:20180602T150000Z
GEO:+37.988214;+23.738987
LOCATION:Αθήνα\, \nΛόφος Στρέφη \nΕξάρχεια
SUMMARY:Τουρνουά 5X5 & πάρτυ του Αστέρα Εξαρχείων
URL:https://thessaloniki.kinimatorama.net/event/96759
END:VEVENT
END:VCALENDAR
