BEGIN:VCALENDAR
VERSION:2.0
PRODID:-//demosphere.net//NONSGML kigkonsult.se iCalcreator 2.22.1//
METHOD:REQUEST
X-WR-TIMEZONE:Europe/Athens
BEGIN:VEVENT
UID:https://thessaloniki.kinimatorama.net/event/9679
DTSTAMP:20110409T160000Z
DESCRIPTION:περισσότερες πληροφορίες: https://thessaloniki.kinimatorama.net
 /event/9679 
DTSTART:20110409T160000Z
DTEND:20110409T170000Z
GEO:+38.00095;+23.737762
LOCATION:Αθήνα\, \nΔημοτική Αγορά Κυψέλης \nΦωκίωνος Νέγρη 42
SUMMARY:Εκδήλωσηγιατην ιστορία του τροτσκιστικού κινήματος στην Ελλάδα 
URL:https://thessaloniki.kinimatorama.net/event/9679
END:VEVENT
END:VCALENDAR
