BEGIN:VCALENDAR
VERSION:2.0
PRODID:-//demosphere.net//NONSGML kigkonsult.se iCalcreator 2.22.1//
METHOD:REQUEST
X-WR-TIMEZONE:Europe/Athens
BEGIN:VEVENT
UID:https://thessaloniki.kinimatorama.net/event/96794
DTSTAMP:20180511T140000Z
DESCRIPTION:περισσότερες πληροφορίες: https://thessaloniki.kinimatorama.net
 /event/96794 
DTSTART:20180511T140000Z
DTEND:20180511T150000Z
GEO:+40.633903;+22.95648
LOCATION:Θεσσαλονίκη\, \nΣχολή Θετικών Επιστημών (ΣΘΕ) ΑΠΘ
SUMMARY:(αλλαγή τοποθεσίας) Hip Hop και Ρεμπέτικο D.I.Y LIVE
URL:https://thessaloniki.kinimatorama.net/event/96794
END:VEVENT
END:VCALENDAR
