BEGIN:VCALENDAR
VERSION:2.0
PRODID:-//demosphere.net//NONSGML kigkonsult.se iCalcreator 2.22.1//
METHOD:REQUEST
X-WR-TIMEZONE:Europe/Athens
BEGIN:VEVENT
UID:https://thessaloniki.kinimatorama.net/event/96943
DTSTAMP:20180515T060000Z
DESCRIPTION:περισσότερες πληροφορίες: https://thessaloniki.kinimatorama.net
 /event/96943 
DTSTART:20180515T060000Z
DTEND:20180515T070000Z
GEO:+37.995376;+23.743086
LOCATION:Αθήνα\, \nΔικαστήρια Ευελπίδων
SUMMARY:Συγκέντρωση Συμπαράστασης για το δικαστήριο του Σωματείου (ΣΣΜ)
URL:https://thessaloniki.kinimatorama.net/event/96943
END:VEVENT
END:VCALENDAR
