BEGIN:VCALENDAR
VERSION:2.0
PRODID:-//demosphere.net//NONSGML kigkonsult.se iCalcreator 2.22.1//
METHOD:REQUEST
X-WR-TIMEZONE:Europe/Athens
BEGIN:VEVENT
UID:https://thessaloniki.kinimatorama.net/event/98315
DTSTAMP:20180613T080000Z
DESCRIPTION:περισσότερες πληροφορίες: https://thessaloniki.kinimatorama.net
 /event/98315 
DTSTART:20180613T080000Z
DTEND:20180613T090000Z
GEO:+37.995376;+23.743086
LOCATION:Αθήνα\, \nΔικαστήρια Ευελπίδων
SUMMARY:[Αθήνα] Συγκέντρωση αλληλεγγύης στους χθεσινούς συλληφθέντες στα Εξ
 άρχεια
URL:https://thessaloniki.kinimatorama.net/event/98315
END:VEVENT
END:VCALENDAR
