BEGIN:VCALENDAR
VERSION:2.0
PRODID:-//demosphere.net//NONSGML kigkonsult.se iCalcreator 2.22.1//
METHOD:REQUEST
X-WR-TIMEZONE:Europe/Athens
BEGIN:VEVENT
UID:https://thessaloniki.kinimatorama.net/event/98389
DTSTAMP:20180614T180000Z
DESCRIPTION:περισσότερες πληροφορίες: https://thessaloniki.kinimatorama.net
 /event/98389 
DTSTART:20180614T180000Z
DTEND:20180614T190000Z
GEO:+40.633903;+22.95648
LOCATION:Θεσσαλονίκη\, \nΣχολή Θετικών Επιστημών (ΣΘΕ) ΑΠΘ
SUMMARY:Μεταφορά του 8ου Ελευθεριακού Φεστιβάλ Βιβλίου λόγω βροχής
URL:https://thessaloniki.kinimatorama.net/event/98389
END:VEVENT
END:VCALENDAR
